BEGIN:VCALENDAR
VERSION:2.0
PRODID:-//Sweet Sound of Success - ECPv6.15.20//NONSGML v1.0//EN
CALSCALE:GREGORIAN
METHOD:PUBLISH
X-WR-CALNAME:Sweet Sound of Success
X-ORIGINAL-URL:https://sweetsoundofsuccess.com
X-WR-CALDESC:Events for Sweet Sound of Success
REFRESH-INTERVAL;VALUE=DURATION:PT1H
X-Robots-Tag:noindex
X-PUBLISHED-TTL:PT1H
BEGIN:VTIMEZONE
TZID:America/Los_Angeles
BEGIN:DAYLIGHT
TZOFFSETFROM:-0800
TZOFFSETTO:-0700
TZNAME:PDT
DTSTART:20180311T100000
END:DAYLIGHT
BEGIN:STANDARD
TZOFFSETFROM:-0700
TZOFFSETTO:-0800
TZNAME:PST
DTSTART:20181104T090000
END:STANDARD
BEGIN:DAYLIGHT
TZOFFSETFROM:-0800
TZOFFSETTO:-0700
TZNAME:PDT
DTSTART:20190310T100000
END:DAYLIGHT
BEGIN:STANDARD
TZOFFSETFROM:-0700
TZOFFSETTO:-0800
TZNAME:PST
DTSTART:20191103T090000
END:STANDARD
BEGIN:DAYLIGHT
TZOFFSETFROM:-0800
TZOFFSETTO:-0700
TZNAME:PDT
DTSTART:20200308T100000
END:DAYLIGHT
BEGIN:STANDARD
TZOFFSETFROM:-0700
TZOFFSETTO:-0800
TZNAME:PST
DTSTART:20201101T090000
END:STANDARD
BEGIN:DAYLIGHT
TZOFFSETFROM:-0800
TZOFFSETTO:-0700
TZNAME:PDT
DTSTART:20210314T100000
END:DAYLIGHT
BEGIN:STANDARD
TZOFFSETFROM:-0700
TZOFFSETTO:-0800
TZNAME:PST
DTSTART:20211107T090000
END:STANDARD
END:VTIMEZONE
BEGIN:VEVENT
DTSTART;TZID=America/Los_Angeles:20200313T110000
DTEND;TZID=America/Los_Angeles:20200313T140000
DTSTAMP:20260425T093841
CREATED:20200311T232213Z
LAST-MODIFIED:20200311T232213Z
UID:483-1584097200-1584108000@sweetsoundofsuccess.com
SUMMARY:Walk-in hours - Songbird Community Healing Center
DESCRIPTION:Certified Biofield Tuning Practitioner Sue Wilhite can help you relax\, reduce stress\, and clear negative thoughts with specially designed tuning forks. Drop in for a 15-20 minute wellbeing tune-up -no appointment needed (enter through the gift store downstairs).\nSessions are sliding scale $1-$2/minute.
URL:https://sweetsoundofsuccess.com/event/walk-in-hours-songbird-community-healing-center/
LOCATION:Songbird Community Healing Center\, 8299 Old Redwood Hwy\, Cotati\, CA\, 94931\, United States
CATEGORIES:Sound Healing
ATTACH;FMTTYPE=image/jpeg:https://sweetsoundofsuccess.com/wp-content/uploads/2019/04/TuningFork-SoundTherapy.jpg
END:VEVENT
BEGIN:VEVENT
DTSTART;TZID=America/Los_Angeles:20191113T130000
DTEND;TZID=America/Los_Angeles:20191113T180000
DTSTAMP:20260425T093841
CREATED:20190930T185051Z
LAST-MODIFIED:20190930T185051Z
UID:468-1573650000-1573668000@sweetsoundofsuccess.com
SUMMARY:Sound Spa Experience©
DESCRIPTION:Treat yourself to relaxation that’s beyond massage and other healing modalities! \nThe Basic Sound Spa: Sue will use tuning forks designed to reset your nervous system\, relax and “tone” your muscles\, and bring your stress levels way down.\n$60 for 30 minutes of pure bliss\n\nPremium: All of the above\, plus clearing emotional stress from your Heart & Throat energy fields\, so the stress stays away longer!\n$150 for a life-changing hour\n\nSonic Meridian Flush: The ultimate Sound Healing pampering experience. This session is an energy tuning process that clears stagnant energy from your whole body. Please don’t schedule any activities for several hours or even overnight after this treatment as you’ll want to bask in the blissful feeling. Consider getting someone else to drive you.\n250 for 90 minutes of rejuvenating relaxation
URL:https://sweetsoundofsuccess.com/event/nov2019-sound-spa-experience/
LOCATION:East West Bookshop/MV\, 324 Castro St\, Mountain View\, CA\, 94040\, United States
CATEGORIES:Sound Healing
ATTACH;FMTTYPE=image/jpeg:https://sweetsoundofsuccess.com/wp-content/uploads/2018/10/heart-music-feb-concert-small.jpg
END:VEVENT
BEGIN:VEVENT
DTSTART;TZID=America/Los_Angeles:20191112T193000
DTEND;TZID=America/Los_Angeles:20191112T210000
DTSTAMP:20260425T093841
CREATED:20190930T183532Z
LAST-MODIFIED:20190930T185404Z
UID:465-1573587000-1573592400@sweetsoundofsuccess.com
SUMMARY:Sound Mind\, Sound Body
DESCRIPTION:Learn the basics of sound healing with specially designed tuning forks to help you relax and feel rejuvenated. \nDo you feel high strung\, low key\, or tuned out? Is there discord or a lack of harmony in your life? \nOur brains and bodies have frequencies that get out of tune\, just like a piano or a guitar. Our language acknowledges and describes the sounds we experience in our lives. Join Certified Biofield Tuning Practitioner and Law of Attraction coach\, Sue Wilhite\, to learn how to reset your vibe and get in tune with yourself.
URL:https://sweetsoundofsuccess.com/event/nov2019-sound-mind-sound-body/
LOCATION:East West Bookshop/MV\, 324 Castro St\, Mountain View\, CA\, 94040\, United States
CATEGORIES:Sound Healing
ATTACH;FMTTYPE=image/jpeg:https://sweetsoundofsuccess.com/wp-content/uploads/2019/04/TuningFork-SoundTherapy.jpg
END:VEVENT
BEGIN:VEVENT
DTSTART;TZID=America/Los_Angeles:20190814T060000
DTEND;TZID=America/Los_Angeles:20190814T110000
DTSTAMP:20260425T093841
CREATED:20190614T070020Z
LAST-MODIFIED:20190614T070112Z
UID:422-1565762400-1565780400@sweetsoundofsuccess.com
SUMMARY:Sound Spa Experience
DESCRIPTION:The Basic Session: A relaxing session with specially designed tuning forks designed to reset your nervous system\, relax and “tone” your muscles from the inside out\, and bring your stress levels way down. \n$60 for 30 minutes of pure bliss\nThe Premium Session: All of the above\, plus clearing emotional stress from your Heart & Throat energy fields\, so the stress stays away longer! \n$150 for a life-changing hour\nThe Sonic Meridian Flush: The ultimate Sound Healing pampering experience. An energetic tuning process that clears stagnant energy from head to toe\, inside and out. Please don’t schedule any activities for several hours or even overnight after this treatment as you’ll want to bask in the blissful feeling. Consider getting someone else to drive you. \n\n$250 for 90 minutes of rejuvenating relaxation
URL:https://sweetsoundofsuccess.com/event/sound-spa-201908/
LOCATION:East West Bookshop/MV\, 324 Castro St\, Mountain View\, CA\, 94040\, United States
CATEGORIES:Sound Healing
ATTACH;FMTTYPE=image/jpeg:https://sweetsoundofsuccess.com/wp-content/uploads/2018/10/heart-music-feb-concert-small.jpg
END:VEVENT
BEGIN:VEVENT
DTSTART;TZID=America/Los_Angeles:20190813T123000
DTEND;TZID=America/Los_Angeles:20190813T140000
DTSTAMP:20260425T093841
CREATED:20190614T065541Z
LAST-MODIFIED:20190614T000602Z
UID:420-1565699400-1565704800@sweetsoundofsuccess.com
SUMMARY:Sound Mind\, Sound Body
DESCRIPTION:Learn the basics of Sound Healing with Tuning Forks!\nDo you feel “high strung\,” “low key\,” or “tuned out?” \nIs there “discord” or a lack of “harmony” in your life? \nOur brains and our bodies have special frequencies that\, just like a piano or guitar\, get out of tune. \nOur very language acknowledges and describes the sounds we experience in our lives. \nJoin Sound Healer & Law of Attraction Coach Sue Wilhite to learn how to reset your “vibe” and get “in tune” with yourself.
URL:https://sweetsoundofsuccess.com/event/smsb201908/
LOCATION:East West Bookshop/MV\, 324 Castro St\, Mountain View\, CA\, 94040\, United States
CATEGORIES:Sound Healing
ATTACH;FMTTYPE=image/jpeg:https://sweetsoundofsuccess.com/wp-content/uploads/2019/04/TuningFork-SoundTherapy.jpg
END:VEVENT
BEGIN:VEVENT
DTSTART;TZID=America/Los_Angeles:20190626T120000
DTEND;TZID=America/Los_Angeles:20190626T140000
DTSTAMP:20260425T093841
CREATED:20190614T065346Z
LAST-MODIFIED:20190614T065346Z
UID:418-1561550400-1561557600@sweetsoundofsuccess.com
SUMMARY:Sound Mind\, Sound Body
DESCRIPTION:Learn the basics of Sound Healing with Tuning Forks!\nDo you feel “high strung\,” “low key\,” or “tuned out?” \nIs there “discord” or a lack of “harmony” in your life? \nOur brains and our bodies have special frequencies that\, just like a piano or guitar\, get out of tune. \nOur very language acknowledges and describes the sounds we experience in our lives. \nJoin Sound Healer & Law of Attraction Coach Sue Wilhite to learn how to reset your “vibe” and get “in tune” with yourself. \n$10 advance registration thru June 25\,\n$15 June 25 and at the door\nRegister and Reserve your seat today for this experiential event!
URL:https://sweetsoundofsuccess.com/event/smsb201906/
LOCATION:Songbird Community Healing Center\, 8299 Old Redwood Hwy\, Cotati\, CA\, 94931\, United States
CATEGORIES:Sound Healing
ATTACH;FMTTYPE=image/jpeg:https://sweetsoundofsuccess.com/wp-content/uploads/2019/04/TuningFork-SoundTherapy.jpg
END:VEVENT
BEGIN:VEVENT
DTSTART;TZID=America/Los_Angeles:20190508T120000
DTEND;TZID=America/Los_Angeles:20190508T140000
DTSTAMP:20260425T093841
CREATED:20190405T034034Z
LAST-MODIFIED:20190424T210254Z
UID:372-1557316800-1557324000@sweetsoundofsuccess.com
SUMMARY:Sound Mind\, Sound Body
DESCRIPTION:Learn the basics of Sound Healing with Tuning Forks!\nDo you feel “high strung\,” “low key\,” or “tuned out?” \nIs there “discord” or a lack of “harmony” in your life? \nOur brains and our bodies have special frequencies that\, just like a piano or guitar\, get out of tune. \nOur very language acknowledges and describes the sounds we experience in our lives. \nJoin Sound Healer & Law of Attraction Coach Sue Wilhite to learn how to reset your “vibe” and get “in tune” with yourself. \n$10 advance registration thru May 7\, \n$15 May 8 and at the door\nRegister and Reserve your seat today for this experiential event! \nhttps://bit.ly/smsb0519 \n  \n 
URL:https://sweetsoundofsuccess.com/event/smsb-201905/
LOCATION:Songbird Community Healing Center\, 8299 Old Redwood Hwy\, Cotati\, CA\, 94931\, United States
CATEGORIES:Sound Healing
ATTACH;FMTTYPE=image/jpeg:https://sweetsoundofsuccess.com/wp-content/uploads/2019/04/TuningFork-SoundTherapy.jpg
END:VEVENT
END:VCALENDAR