BEGIN:VCALENDAR
VERSION:2.0
PRODID:-//Sweet Sound of Success - ECPv6.15.20//NONSGML v1.0//EN
CALSCALE:GREGORIAN
METHOD:PUBLISH
X-ORIGINAL-URL:https://sweetsoundofsuccess.com
X-WR-CALDESC:Events for Sweet Sound of Success
REFRESH-INTERVAL;VALUE=DURATION:PT1H
X-Robots-Tag:noindex
X-PUBLISHED-TTL:PT1H
BEGIN:VTIMEZONE
TZID:America/Los_Angeles
BEGIN:DAYLIGHT
TZOFFSETFROM:-0800
TZOFFSETTO:-0700
TZNAME:PDT
DTSTART:20180311T100000
END:DAYLIGHT
BEGIN:STANDARD
TZOFFSETFROM:-0700
TZOFFSETTO:-0800
TZNAME:PST
DTSTART:20181104T090000
END:STANDARD
BEGIN:DAYLIGHT
TZOFFSETFROM:-0800
TZOFFSETTO:-0700
TZNAME:PDT
DTSTART:20190310T100000
END:DAYLIGHT
BEGIN:STANDARD
TZOFFSETFROM:-0700
TZOFFSETTO:-0800
TZNAME:PST
DTSTART:20191103T090000
END:STANDARD
BEGIN:DAYLIGHT
TZOFFSETFROM:-0800
TZOFFSETTO:-0700
TZNAME:PDT
DTSTART:20200308T100000
END:DAYLIGHT
BEGIN:STANDARD
TZOFFSETFROM:-0700
TZOFFSETTO:-0800
TZNAME:PST
DTSTART:20201101T090000
END:STANDARD
END:VTIMEZONE
BEGIN:VEVENT
DTSTART;TZID=America/Los_Angeles:20190501T120000
DTEND;TZID=America/Los_Angeles:20190501T133000
DTSTAMP:20260425T071424
CREATED:20190425T005738Z
LAST-MODIFIED:20190425T005929Z
UID:407-1556712000-1556717400@sweetsoundofsuccess.com
SUMMARY:Prosperity Book Club
DESCRIPTION:In June\, 2018 the club started Think and Grow Rich by Napoleon Hill\, a classic book that nearly every successful entrepreneur and C-level executive credits with their success.\nThe club covers a chapter per month\, so feel free to jump in anytime! It also includes a mini-Mastermind support process to increase your success.\n\n\nCost: $5
URL:https://sweetsoundofsuccess.com/event/prosperity-book-club/
LOCATION:Songbird Community Healing Center\, 8299 Old Redwood Hwy\, Cotati\, CA\, 94931\, United States
CATEGORIES:Law of Attraction
ATTACH;FMTTYPE=image/jpeg:https://sweetsoundofsuccess.com/wp-content/uploads/2019/04/think_grow_rich.jpg
END:VEVENT
BEGIN:VEVENT
DTSTART;TZID=America/Los_Angeles:20190413T060000
DTEND;TZID=America/Los_Angeles:20190413T090000
DTSTAMP:20260425T071424
CREATED:20190406T010114Z
LAST-MODIFIED:20190406T010152Z
UID:383-1555135200-1555146000@sweetsoundofsuccess.com
SUMMARY:How to Write a Book in 3 Easy Steps
DESCRIPTION:$35 thru April 12\, $45 day of \nReserve your seat here! https://www.eastwestbooks.org/events/write-book-13apr19 \nDo you suffer from the dreaded writer’s block\, staring at the waiting blank page? Or do you get started with enthusiasm\, and get bogged down along the way? Let successful author and publisher Sue Wilhite uncork the creative genie inside you! \nIf you can count to 3\, you can get your book nearly done in this hands-on workshop. Learn a proven 3-step process that allows you to craft your book in 90 days or less. If you have ever wanted to write the book that’s inside you\, now’s the time. \nSue will help you get your book out of your imagination and into the hands of your readers as quickly as possible. \n***Bring a notebook or laptop\, and your book ideas.
URL:https://sweetsoundofsuccess.com/event/write-book-13apr19/
LOCATION:East West Bookshop/MV\, 324 Castro St\, Mountain View\, CA\, 94040\, United States
CATEGORIES:publishing
ATTACH;FMTTYPE=image/jpeg:https://sweetsoundofsuccess.com/wp-content/uploads/2019/04/BookWriting.jpg
END:VEVENT
END:VCALENDAR